BEGIN:VCALENDAR
VERSION:2.0
PRODID:-//Muslim Community Center of Winchester Area - ECPv6.15.1.1//NONSGML v1.0//EN
CALSCALE:GREGORIAN
METHOD:PUBLISH
X-WR-CALNAME:Muslim Community Center of Winchester Area
X-ORIGINAL-URL:https://mccwa.org
X-WR-CALDESC:Events for Muslim Community Center of Winchester Area
REFRESH-INTERVAL;VALUE=DURATION:PT1H
X-Robots-Tag:noindex
X-PUBLISHED-TTL:PT1H
BEGIN:VTIMEZONE
TZID:UTC
BEGIN:STANDARD
TZOFFSETFROM:+0000
TZOFFSETTO:+0000
TZNAME:UTC
DTSTART:20260101T000000
END:STANDARD
END:VTIMEZONE
BEGIN:VEVENT
DTSTART;TZID=UTC:20260424T133000
DTEND;TZID=UTC:20260424T140000
DTSTAMP:20260423T074341
CREATED:20191019T003559Z
LAST-MODIFIED:20191019T003559Z
UID:6782-1777037400-1777039200@mccwa.org
SUMMARY:Jumu’ah Prayer
DESCRIPTION:Jumu’ah prayer every Friday 1:30pm. Adhan at 1:30. Iqama at 2:00pm
URL:https://mccwa.org/event/jumuah-prayer-2026-04-24/
LOCATION:Muslim Community Center Of Winchester Area
ATTACH;FMTTYPE=image/png:https://mccwa.org/wp-content/uploads/2019/10/prayer-time-bg.png
END:VEVENT
END:VCALENDAR